BEGIN:VCALENDAR
VERSION:2.0
PRODID:-//wp-events-plugin.com//7.2.3.1//EN
TZID:Australia/Sydney
X-WR-TIMEZONE:Australia/Sydney
BEGIN:VEVENT
UID:32@kogarahcommunity.org.au
DTSTART;TZID=Australia/Sydney:20230831T083000
DTEND;TZID=Australia/Sydney:20230831T150000
DTSTAMP:20230828T030733Z
URL:https://www.kogarahcommunity.org.au/events/bingo-seniors-social-progra
 m/
SUMMARY:Bingo - Seniors Social Program
DESCRIPTION:You must be registered with MyAged Care prior to attending this
  program - please contact Angela on 9553 6506 for more information
END:VEVENT
BEGIN:VTIMEZONE
TZID:Australia/Sydney
X-LIC-LOCATION:Australia/Sydney
BEGIN:STANDARD
DTSTART:20230402T020000
TZOFFSETFROM:+1100
TZOFFSETTO:+1000
TZNAME:AEST
END:STANDARD
END:VTIMEZONE
END:VCALENDAR