BEGIN:VCALENDAR
VERSION:2.0
PRODID:-//wp-events-plugin.com//7.2.3.1//EN
TZID:Australia/Sydney
X-WR-TIMEZONE:Australia/Sydney
BEGIN:VEVENT
UID:38@kogarahcommunity.org.au
DTSTART;TZID=Australia/Sydney:20240207T130000
DTEND;TZID=Australia/Sydney:20240410T143000
DTSTAMP:20240216T031508Z
URL:https://www.kogarahcommunity.org.au/events/bridging-the-gap-of-technol
 ogy-expression-of-interest/
SUMMARY:Bridging the Gap of Technology - Wednesday's
DESCRIPTION:
CATEGORIES:courses,Intergenerational
LOCATION:KCS Community Hub\, 49 English Street\, Kogarah\, NSW\, 2216\, Aus
 tralia
X-APPLE-STRUCTURED-LOCATION;VALUE=URI;X-ADDRESS=49 English Street\, Kogarah
 \, NSW\, 2216\, Australia;X-APPLE-RADIUS=100;X-TITLE=KCS Community Hub:geo
 :0,0
END:VEVENT
BEGIN:VTIMEZONE
TZID:Australia/Sydney
X-LIC-LOCATION:Australia/Sydney
BEGIN:DAYLIGHT
DTSTART:20231001T030000
TZOFFSETFROM:+1000
TZOFFSETTO:+1100
TZNAME:AEDT
END:DAYLIGHT
BEGIN:STANDARD
DTSTART:20240407T020000
TZOFFSETFROM:+1100
TZOFFSETTO:+1000
TZNAME:AEST
END:STANDARD
END:VTIMEZONE
END:VCALENDAR