BEGIN:VCALENDAR
VERSION:2.0
PRODID:-//wp-events-plugin.com//7.2.3.1//EN
TZID:Australia/Sydney
X-WR-TIMEZONE:Australia/Sydney
BEGIN:VEVENT
UID:53@kogarahcommunity.org.au
DTSTART;TZID=Australia/Sydney:20240606T120000
DTEND;TZID=Australia/Sydney:20240606T130000
DTSTAMP:20240530T045632Z
URL:https://www.kogarahcommunity.org.au/events/carer-gateway-program-infor
 mation-session-on-being-a-carer/
SUMMARY:Carer Gateway Program - Information session on being a carer
DESCRIPTION:[button open_new_tab="true" color="accent-color" hover_text_col
 or_override="#fff" size="jumbo" url="https://kogarahcommunityservices.snap
 forms.com.au/form/being-a-carer---information-session" text="Register your
  interest" color_override=""]\n\nA collaboration with Benevolent Society a
 nd their Carer Gateway Program.  This information session will give you i
 nformation about accessing the program.\nThe program is for carers and you
  do not have to be on Centrelink\, NDIS or My Aged Care to access this pro
 gram. Attend the information session to find out more information on how t
 o apply.\n\n&nbsp\;
CATEGORIES:Workshop
LOCATION:KCS Community Hub\, 49 English Street\, Kogarah\, NSW\, 2216\, Aus
 tralia
X-APPLE-STRUCTURED-LOCATION;VALUE=URI;X-ADDRESS=49 English Street\, Kogarah
 \, NSW\, 2216\, Australia;X-APPLE-RADIUS=100;X-TITLE=KCS Community Hub:geo
 :0,0
END:VEVENT
BEGIN:VTIMEZONE
TZID:Australia/Sydney
X-LIC-LOCATION:Australia/Sydney
BEGIN:STANDARD
DTSTART:20240407T020000
TZOFFSETFROM:+1100
TZOFFSETTO:+1000
TZNAME:AEST
END:STANDARD
END:VTIMEZONE
END:VCALENDAR