BEGIN:VCALENDAR
VERSION:2.0
PRODID:-//wp-events-plugin.com//7.2.3.1//EN
TZID:Australia/Sydney
X-WR-TIMEZONE:Australia/Sydney
BEGIN:VEVENT
UID:111@kogarahcommunity.org.au
DTSTART;TZID=Australia/Sydney:20260414T100000
DTEND;TZID=Australia/Sydney:20260414T130000
DTSTAMP:20260318T051322Z
URL:https://www.kogarahcommunity.org.au/events/chai-chats-chants-celebrati
 on-of-nepali-thai-and-bengali-new-year/
SUMMARY:Chai Chats & Chants - Celebration of Nepali\, Thai and Bengali New 
 Year
DESCRIPTION:Join us as we ring in the festive new year with free chai\, med
 itation and beautiful cultural performances. 
ATTACH;FMTTYPE=image/jpeg:https://www.kogarahcommunity.org.au/wp-content/u
 ploads/2026/02/Solar-NY-pdf.jpg
CATEGORIES:Community
LOCATION:Dharaggang Park\, 2 Guess Avenue\, Wolli Creek\, NSW\, Australia
X-APPLE-STRUCTURED-LOCATION;VALUE=URI;X-ADDRESS=2 Guess Avenue\, Wolli Cree
 k\, NSW\, Australia;X-APPLE-RADIUS=100;X-TITLE=Dharaggang Park:geo:0,0
END:VEVENT
BEGIN:VTIMEZONE
TZID:Australia/Sydney
X-LIC-LOCATION:Australia/Sydney
BEGIN:STANDARD
DTSTART:20260405T020000
TZOFFSETFROM:+1100
TZOFFSETTO:+1000
TZNAME:AEST
END:STANDARD
END:VTIMEZONE
END:VCALENDAR