BEGIN:VCALENDAR
VERSION:2.0
PRODID:-//wp-events-plugin.com//7.2.3.1//EN
TZID:Australia/Sydney
X-WR-TIMEZONE:Australia/Sydney
BEGIN:VEVENT
UID:51@kogarahcommunity.org.au
DTSTART;TZID=Australia/Sydney:20240523T120000
DTEND;TZID=Australia/Sydney:20240523T133000
DTSTAMP:20240508T032949Z
URL:https://www.kogarahcommunity.org.au/events/consumer-law-workshop/
SUMMARY:Law Week Workshop - Consumer law\, understand your rights
DESCRIPTION:[button open_new_tab="true" color="accent-color" hover_text_col
 or_override="#fff" size="jumbo" url="https://kogarahcommunityservices.snap
 forms.com.au/form/law-week-workshop-23-may-2024" text="Register your inter
 est" color_override=""]\n\nA consumer Law Workshop for Law Week 2024. Law 
 Week is designed to help people understand their legal rights.  Join us t
 o learn more about our rights and responsibilities as a consumer from Marr
 ickville Legal Centre.\n\nLight Refreshments will be provided.\n\n&nbsp\;
CATEGORIES:Workshop
LOCATION:KCS Community Hub\, 49 English Street\, Kogarah\, NSW\, 2216\, Aus
 tralia
X-APPLE-STRUCTURED-LOCATION;VALUE=URI;X-ADDRESS=49 English Street\, Kogarah
 \, NSW\, 2216\, Australia;X-APPLE-RADIUS=100;X-TITLE=KCS Community Hub:geo
 :0,0
END:VEVENT
BEGIN:VTIMEZONE
TZID:Australia/Sydney
X-LIC-LOCATION:Australia/Sydney
BEGIN:STANDARD
DTSTART:20240407T020000
TZOFFSETFROM:+1100
TZOFFSETTO:+1000
TZNAME:AEST
END:STANDARD
END:VTIMEZONE
END:VCALENDAR