BEGIN:VCALENDAR
VERSION:2.0
PRODID:-//wp-events-plugin.com//7.2.3.1//EN
TZID:Australia/Sydney
X-WR-TIMEZONE:Australia/Sydney
BEGIN:VEVENT
UID:48@kogarahcommunity.org.au
DTSTART;TZID=Australia/Sydney:20240416T100000
DTEND;TZID=Australia/Sydney:20240423T120000
DTSTAMP:20240411T044718Z
URL:https://www.kogarahcommunity.org.au/events/emergency-preparedness-work
 shop-a-workshop-on-how-to-prepare-for-emergencies/
SUMMARY:Emergency Preparedness Workshop - a workshop on how to prepare for 
 emergencies
DESCRIPTION:An interactive workshop for the community on how to respond and
  prepare for emergencies. It will get you to understand different types of
  emergencies and have a practice of preparing an emergency kit.\n\n[button
  open_new_tab="true" color="extra-color-1" hover_text_color_override="#fff
 " size="jumbo" url="https://kogarahcommunityservices.snapforms.com.au/form
 /emergency-preparedness-workshops" text="REGISTER YOUR INTEREST" color_ove
 rride=""]\n\n&nbsp\;\n\n&nbsp\;
CATEGORIES:Workshop
LOCATION:Kogarah Community Hub\, 49 English Street\, Kogarah\, NSW\, 2217\,
  Australia
X-APPLE-STRUCTURED-LOCATION;VALUE=URI;X-ADDRESS=49 English Street\, Kogarah
 \, NSW\, 2217\, Australia;X-APPLE-RADIUS=100;X-TITLE=Kogarah Community Hub
 :geo:0,0
END:VEVENT
BEGIN:VTIMEZONE
TZID:Australia/Sydney
X-LIC-LOCATION:Australia/Sydney
BEGIN:STANDARD
DTSTART:20240407T020000
TZOFFSETFROM:+1100
TZOFFSETTO:+1000
TZNAME:AEST
END:STANDARD
END:VTIMEZONE
END:VCALENDAR