BEGIN:VCALENDAR
VERSION:2.0
PRODID:-//wp-events-plugin.com//7.2.3.1//EN
TZID:Australia/Sydney
X-WR-TIMEZONE:Australia/Sydney
BEGIN:VEVENT
UID:1@kogarahcommunity.org.au
DTSTART;TZID=Australia/Sydney:20231017T100000
DTEND;TZID=Australia/Sydney:20231114T130000
DTSTAMP:20231114T023321Z
URL:https://www.kogarahcommunity.org.au/events/english-classes-for-beginne
 rs/
SUMMARY:English Classes for Beginners (Term 4 starting 10/10/23)
DESCRIPTION:Free english classes for beginners (some visa restrictions appl
 y)
CATEGORIES:courses
LOCATION:Kogarah Community Services\, 49 English Street\, Kogarah\, NSW\, 2
 217\, Australia
X-APPLE-STRUCTURED-LOCATION;VALUE=URI;X-ADDRESS=49 English Street\, Kogarah
 \, NSW\, 2217\, Australia;X-APPLE-RADIUS=100;X-TITLE=Kogarah Community Ser
 vices:geo:0,0
END:VEVENT
BEGIN:VTIMEZONE
TZID:Australia/Sydney
X-LIC-LOCATION:Australia/Sydney
BEGIN:DAYLIGHT
DTSTART:20231001T030000
TZOFFSETFROM:+1000
TZOFFSETTO:+1100
TZNAME:AEDT
END:DAYLIGHT
END:VTIMEZONE
END:VCALENDAR