BEGIN:VCALENDAR
VERSION:2.0
PRODID:-//wp-events-plugin.com//7.2.3.1//EN
TZID:Australia/Sydney
X-WR-TIMEZONE:Australia/Sydney
BEGIN:VEVENT
UID:36@kogarahcommunity.org.au
DTSTART;TZID=Australia/Sydney:20231018T113000
DTEND;TZID=Australia/Sydney:20231018T140000
DTSTAMP:20231009T020904Z
URL:https://www.kogarahcommunity.org.au/events/get-online-week-digital-inc
 lusion-event-55-years/
SUMMARY:Get Online Week - Digital Inclusion Event (55 years+)
DESCRIPTION:
CATEGORIES:Intergenerational
LOCATION:KCS Community Hub\, 49 English Street\, Kogarah\, NSW\, 2216\, Aus
 tralia
X-APPLE-STRUCTURED-LOCATION;VALUE=URI;X-ADDRESS=49 English Street\, Kogarah
 \, NSW\, 2216\, Australia;X-APPLE-RADIUS=100;X-TITLE=KCS Community Hub:geo
 :0,0
END:VEVENT
BEGIN:VTIMEZONE
TZID:Australia/Sydney
X-LIC-LOCATION:Australia/Sydney
BEGIN:DAYLIGHT
DTSTART:20231001T030000
TZOFFSETFROM:+1000
TZOFFSETTO:+1100
TZNAME:AEDT
END:DAYLIGHT
END:VTIMEZONE
END:VCALENDAR