BEGIN:VCALENDAR
VERSION:2.0
PRODID:-//wp-events-plugin.com//7.2.3.1//EN
TZID:Australia/Sydney
X-WR-TIMEZONE:Australia/Sydney
BEGIN:VEVENT
UID:85@kogarahcommunity.org.au
DTSTART;TZID=Australia/Sydney:20250821T113000
DTEND;TZID=Australia/Sydney:20250821T133000
DTSTAMP:20250623T051549Z
URL:https://www.kogarahcommunity.org.au/events/government-rebate-program-i
 nformation-session/
SUMMARY:Government Rebate Program - information session
DESCRIPTION:The Government Rebate Program\, presented by Harry Ramani from 
 Service NSW will take you through how to access some of the rebates and vo
 uchers offered by the NSW Government.
ATTACH;FMTTYPE=image/jpeg:https://www.kogarahcommunity.org.au/wp-content/u
 ploads/2025/06/Govt-Rebate-August.jpg
CATEGORIES:information session
LOCATION:KCS Community Hub\, 49 English Street\, Kogarah\, NSW\, 2216\, Aus
 tralia
X-APPLE-STRUCTURED-LOCATION;VALUE=URI;X-ADDRESS=49 English Street\, Kogarah
 \, NSW\, 2216\, Australia;X-APPLE-RADIUS=100;X-TITLE=KCS Community Hub:geo
 :0,0
END:VEVENT
BEGIN:VTIMEZONE
TZID:Australia/Sydney
X-LIC-LOCATION:Australia/Sydney
BEGIN:STANDARD
DTSTART:20250406T020000
TZOFFSETFROM:+1100
TZOFFSETTO:+1000
TZNAME:AEST
END:STANDARD
END:VTIMEZONE
END:VCALENDAR