BEGIN:VCALENDAR
VERSION:2.0
PRODID:-//wp-events-plugin.com//7.2.3.1//EN
TZID:Australia/Sydney
X-WR-TIMEZONE:Australia/Sydney
BEGIN:VEVENT
UID:88@kogarahcommunity.org.au
DTSTART;TZID=Australia/Sydney:20250718T123000
DTEND;TZID=Australia/Sydney:20250916T133000
DTSTAMP:20250717T235536Z
URL:https://www.kogarahcommunity.org.au/events/grandpals-gardening-activit
 y/
SUMMARY:Grandpals - Gardening activity - expression of interest
DESCRIPTION:A special gardening activity bringing together local high schoo
 l students and older community members for a fun\, hands-on day in the gar
 den!\n\nTo be held fortnightly on Tuesdays from 5/8/25 to 16/9/25\n\nPleas
 e contact Maria on 0404726340 or maria.anthony@kcs.org.au for more informa
 tion
ATTACH;FMTTYPE=image/jpeg:https://www.kogarahcommunity.org.au/wp-content/u
 ploads/2025/07/Grandpals-gardening-activity.jpg
CATEGORIES:Intergenerational
END:VEVENT
BEGIN:VTIMEZONE
TZID:Australia/Sydney
X-LIC-LOCATION:Australia/Sydney
BEGIN:STANDARD
DTSTART:20250406T020000
TZOFFSETFROM:+1100
TZOFFSETTO:+1000
TZNAME:AEST
END:STANDARD
END:VTIMEZONE
END:VCALENDAR