BEGIN:VCALENDAR
VERSION:2.0
PRODID:-//wp-events-plugin.com//7.2.3.1//EN
TZID:Australia/Sydney
X-WR-TIMEZONE:Australia/Sydney
BEGIN:VEVENT
UID:56@kogarahcommunity.org.au
DTSTART;TZID=Australia/Sydney:20240618T110000
DTEND;TZID=Australia/Sydney:20241210T120000
DTSTAMP:20240606T003116Z
URL:https://www.kogarahcommunity.org.au/events/grandpals-intergenerational
 -program-tuesdays/
SUMMARY:Grandpals - Intergenerational Program - Tuesdays
DESCRIPTION:A  free weekly program where we transport a group of seniors t
 o local schools in the St George and surrounding areas.  This year we are
  joining Sans Souci Public school for some fun board games and art/craft a
 ctivities.\n\n[button color="accent-color" hover_text_color_override="#fff
 " size="large" url="https://kogarahcommunityservices.snapforms.com.au/form
 /yoga---igp" text="Register your interest" color_override=""]
CATEGORIES:Intergenerational
LOCATION:Kogarah Community Hub\, 49 English Street\, Kogarah\, NSW\, 2217\,
  Australia
X-APPLE-STRUCTURED-LOCATION;VALUE=URI;X-ADDRESS=49 English Street\, Kogarah
 \, NSW\, 2217\, Australia;X-APPLE-RADIUS=100;X-TITLE=Kogarah Community Hub
 :geo:0,0
END:VEVENT
BEGIN:VTIMEZONE
TZID:Australia/Sydney
X-LIC-LOCATION:Australia/Sydney
BEGIN:STANDARD
DTSTART:20240407T020000
TZOFFSETFROM:+1100
TZOFFSETTO:+1000
TZNAME:AEST
END:STANDARD
BEGIN:DAYLIGHT
DTSTART:20241006T030000
TZOFFSETFROM:+1000
TZOFFSETTO:+1100
TZNAME:AEDT
END:DAYLIGHT
END:VTIMEZONE
END:VCALENDAR