BEGIN:VCALENDAR
VERSION:2.0
PRODID:-//wp-events-plugin.com//7.2.3.1//EN
TZID:Australia/Sydney
X-WR-TIMEZONE:Australia/Sydney
BEGIN:VEVENT
UID:91@kogarahcommunity.org.au
DTSTART;TZID=Australia/Sydney:20250911T120000
DTEND;TZID=Australia/Sydney:20250911T140000
DTSTAMP:20250821T042836Z
URL:https://www.kogarahcommunity.org.au/events/healthy-hub-information-day
 /
SUMMARY:Healthy Hub - information day
DESCRIPTION:Healthy Hub\, where services including Hearing Australia\, Sout
 h East Sydney Local Health District and CM Wellness will provide the commu
 nity with information to improve your health and wellbeing.\n\nCome along 
 and learn more about health services and get a FREE Hearing test from Hear
 ing Australia.
ATTACH;FMTTYPE=image/jpeg:https://www.kogarahcommunity.org.au/wp-content/u
 ploads/2025/08/Healthy-Hub.jpg
CATEGORIES:Community
LOCATION:KCS Community Hub\, 49 English Street\, Kogarah\, NSW\, 2216\, Aus
 tralia
X-APPLE-STRUCTURED-LOCATION;VALUE=URI;X-ADDRESS=49 English Street\, Kogarah
 \, NSW\, 2216\, Australia;X-APPLE-RADIUS=100;X-TITLE=KCS Community Hub:geo
 :0,0
END:VEVENT
BEGIN:VTIMEZONE
TZID:Australia/Sydney
X-LIC-LOCATION:Australia/Sydney
BEGIN:STANDARD
DTSTART:20250406T020000
TZOFFSETFROM:+1100
TZOFFSETTO:+1000
TZNAME:AEST
END:STANDARD
END:VTIMEZONE
END:VCALENDAR