BEGIN:VCALENDAR
VERSION:2.0
PRODID:-//wp-events-plugin.com//7.2.3.1//EN
TZID:Australia/Sydney
X-WR-TIMEZONE:Australia/Sydney
BEGIN:VEVENT
UID:59@kogarahcommunity.org.au
DTSTART;TZID=Australia/Sydney;VALUE=DATE:20240709
DTEND;TZID=Australia/Sydney;VALUE=DATE:20240719
DTSTAMP:20240626T023603Z
URL:https://www.kogarahcommunity.org.au/events/igp-winter-school-holiday-p
 rogram/
SUMMARY:Intergenerational School Holiday Program - Winter 2024
DESCRIPTION:
CATEGORIES:Intergenerational,school holiday program
LOCATION:KCS Community Hub\, 49 English Street\, Kogarah\, NSW\, 2216\, Aus
 tralia
X-APPLE-STRUCTURED-LOCATION;VALUE=URI;X-ADDRESS=49 English Street\, Kogarah
 \, NSW\, 2216\, Australia;X-APPLE-RADIUS=100;X-TITLE=KCS Community Hub:geo
 :0,0
END:VEVENT
BEGIN:VTIMEZONE
TZID:Australia/Sydney
X-LIC-LOCATION:Australia/Sydney
BEGIN:STANDARD
DTSTART:20240407T020000
TZOFFSETFROM:+1100
TZOFFSETTO:+1000
TZNAME:AEST
END:STANDARD
END:VTIMEZONE
END:VCALENDAR