BEGIN:VCALENDAR
VERSION:2.0
PRODID:-//wp-events-plugin.com//7.2.3.1//EN
TZID:Australia/Sydney
X-WR-TIMEZONE:Australia/Sydney
BEGIN:VEVENT
UID:118@kogarahcommunity.org.au
DTSTART;TZID=Australia/Sydney:20260527T103000
DTEND;TZID=Australia/Sydney:20260527T120000
DTSTAMP:20260422T232754Z
URL:https://www.kogarahcommunity.org.au/events/medication-safety-presentat
 ion/
SUMMARY:MEDICATION SAFETY PRESENTATION
DESCRIPTION:PRESENTATION INCLUDES:\n- misuse of medication\n- risks of inco
 rrect use of medication\n- why medication safety matters\n- tips & memory 
 aids for safe medication management\n- roles for families/caregivers\n- re
 source & information pack giveaways
ATTACH;FMTTYPE=image/jpeg:https://www.kogarahcommunity.org.au/wp-content/u
 ploads/2026/04/Final-Medication-Safety-flyer-QR-code-pdf.jpg
CATEGORIES:Community,information session,Seniors
LOCATION:Civic Theatre\, 16 MacMahon St\, Hurstville\, Australia
X-APPLE-STRUCTURED-LOCATION;VALUE=URI;X-ADDRESS=16 MacMahon St\, Hurstville
 \, Australia;X-APPLE-RADIUS=100;X-TITLE=Civic Theatre:geo:0,0
END:VEVENT
BEGIN:VTIMEZONE
TZID:Australia/Sydney
X-LIC-LOCATION:Australia/Sydney
BEGIN:STANDARD
DTSTART:20260405T020000
TZOFFSETFROM:+1100
TZOFFSETTO:+1000
TZNAME:AEST
END:STANDARD
END:VTIMEZONE
END:VCALENDAR