BEGIN:VCALENDAR
VERSION:2.0
PRODID:-//wp-events-plugin.com//7.2.3.1//EN
TZID:Australia/Sydney
X-WR-TIMEZONE:Australia/Sydney
BEGIN:VEVENT
UID:49@kogarahcommunity.org.au
DTSTART;TZID=Australia/Sydney:20240516T103000
DTEND;TZID=Australia/Sydney:20240516T123000
DTSTAMP:20240506T023746Z
URL:https://www.kogarahcommunity.org.au/events/neighbourhood-centres-week-
 activities/
SUMMARY:Neighbourhood Centres Week Activities
DESCRIPTION:[button open_new_tab="true" color="accent-color" hover_text_col
 or_override="#fff" size="jumbo" url="https://kogarahcommunityservices.snap
 forms.com.au/form/neighbourhood-centres-week-16-may-2024" text="Register y
 our interest" color_override=""]
CATEGORIES:Intergenerational,Workshop
LOCATION:KCS Community Hub\, 49 English Street\, Kogarah\, NSW\, 2216\, Aus
 tralia
X-APPLE-STRUCTURED-LOCATION;VALUE=URI;X-ADDRESS=49 English Street\, Kogarah
 \, NSW\, 2216\, Australia;X-APPLE-RADIUS=100;X-TITLE=KCS Community Hub:geo
 :0,0
END:VEVENT
BEGIN:VTIMEZONE
TZID:Australia/Sydney
X-LIC-LOCATION:Australia/Sydney
BEGIN:STANDARD
DTSTART:20240407T020000
TZOFFSETFROM:+1100
TZOFFSETTO:+1000
TZNAME:AEST
END:STANDARD
END:VTIMEZONE
END:VCALENDAR