BEGIN:VCALENDAR
VERSION:2.0
PRODID:-//wp-events-plugin.com//7.2.3.1//EN
TZID:Australia/Sydney
X-WR-TIMEZONE:Australia/Sydney
BEGIN:VEVENT
UID:47@kogarahcommunity.org.au
DTSTART;TZID=Australia/Sydney:20240423T120000
DTEND;TZID=Australia/Sydney:20240423T140000
DTSTAMP:20240402T025113Z
URL:https://www.kogarahcommunity.org.au/events/picnic-in-the-park/
SUMMARY:Picnic and Games in the Park
DESCRIPTION:A fun day for everyone at Kogarah Park.  On the day enjoy a pic
 nic in the park with your family and friends. You will also get to meet ot
 her people on the day.\nKCS will have a range of activities and games on t
 he day for everyone to enjoy.\n\n[button open_new_tab="true" color="extra-
 color-1" hover_text_color_override="#fff" size="jumbo" url="https://kogara
 hcommunityservices.snapforms.com.au/form/picnic-amp-games-in-the-park---23
 -april-2024" text="REGISTER YOUR INTEREST" color_override=""]\n\n&nbsp\;\n
 \n&nbsp\;
CATEGORIES:Intergenerational
END:VEVENT
BEGIN:VTIMEZONE
TZID:Australia/Sydney
X-LIC-LOCATION:Australia/Sydney
BEGIN:STANDARD
DTSTART:20240407T020000
TZOFFSETFROM:+1100
TZOFFSETTO:+1000
TZNAME:AEST
END:STANDARD
END:VTIMEZONE
END:VCALENDAR