BEGIN:VCALENDAR
VERSION:2.0
PRODID:-//wp-events-plugin.com//7.2.3.1//EN
TZID:Australia/Sydney
X-WR-TIMEZONE:Australia/Sydney
BEGIN:VEVENT
UID:45@kogarahcommunity.org.au
DTSTART;TZID=Australia/Sydney:20240423T100000
DTEND;TZID=Australia/Sydney:20240423T120000
DTSTAMP:20240402T025240Z
URL:https://www.kogarahcommunity.org.au/events/pillowcase-workshop-a-fun-w
 orkshop-on-how-to-prepare-for-emergencies-8-11-years-2/
SUMMARY:Pillowcase Workshop - a fun workshop on how to prepare for emergenc
 ies (8-11 years)
DESCRIPTION:An interactive and fun workshop for young people aged 8 to 11 o
 n how to respond and prepare for emergencies.\nDuring the session\, each y
 oung person will receive a pillowcase and start their own personalised eme
 rgency kit and preparedness plan.\nOn the day there will also be a session
  for parents and carers in the other room about Emergency Preparedness.\n\
 n[button open_new_tab="true" color="extra-color-1" hover_text_color_overri
 de="#fff" size="jumbo" url="https://kogarahcommunityservices.snapforms.com
 .au/form/pillow-case-workshop---april-2024" text="REGISTER YOUR INTEREST" 
 color_override=""]\n\n&nbsp\;\n\n&nbsp\;
CATEGORIES:Teens,Workshop
LOCATION:Kogarah Community Hub\, 49 English Street\, Kogarah\, NSW\, 2217\,
  Australia
X-APPLE-STRUCTURED-LOCATION;VALUE=URI;X-ADDRESS=49 English Street\, Kogarah
 \, NSW\, 2217\, Australia;X-APPLE-RADIUS=100;X-TITLE=Kogarah Community Hub
 :geo:0,0
END:VEVENT
BEGIN:VTIMEZONE
TZID:Australia/Sydney
X-LIC-LOCATION:Australia/Sydney
BEGIN:STANDARD
DTSTART:20240407T020000
TZOFFSETFROM:+1100
TZOFFSETTO:+1000
TZNAME:AEST
END:STANDARD
END:VTIMEZONE
END:VCALENDAR