BEGIN:VCALENDAR
VERSION:2.0
PRODID:-//wp-events-plugin.com//7.2.3.1//EN
TZID:Australia/Sydney
X-WR-TIMEZONE:Australia/Sydney
BEGIN:VEVENT
UID:50@kogarahcommunity.org.au
DTSTART;TZID=Australia/Sydney:20240619T100000
DTEND;TZID=Australia/Sydney:20240619T110000
DTSTAMP:20240507T040405Z
URL:https://www.kogarahcommunity.org.au/events/refugee-week-information-se
 ssion/
SUMMARY:Refugee Week information Session
DESCRIPTION:[button open_new_tab="true" color="accent-color" hover_text_col
 or_override="#fff" size="jumbo" url="https://kogarahcommunityservices.snap
 forms.com.au/form/refugee-week-information-session-19-june-2024" text="Reg
 ister your interest" color_override=""]\n\nKCS presents A collaboration wi
 th Australian Red Cross to bring to the community and stakeholders informa
 tion on the International  Tracing Service during Refugee Week. This sess
 ion will go through the history of the Restoring Family Links program\, re
 ferral process and also share some stories of reunification. The session w
 ill also share how Red Cross and Red Crescent Societies collaborate to rec
 onnect displaced families.\n\n&nbsp\;
LOCATION:KCS Community Hub\, 49 English Street\, Kogarah\, NSW\, 2216\, Aus
 tralia
X-APPLE-STRUCTURED-LOCATION;VALUE=URI;X-ADDRESS=49 English Street\, Kogarah
 \, NSW\, 2216\, Australia;X-APPLE-RADIUS=100;X-TITLE=KCS Community Hub:geo
 :0,0
END:VEVENT
BEGIN:VTIMEZONE
TZID:Australia/Sydney
X-LIC-LOCATION:Australia/Sydney
BEGIN:STANDARD
DTSTART:20240407T020000
TZOFFSETFROM:+1100
TZOFFSETTO:+1000
TZNAME:AEST
END:STANDARD
END:VTIMEZONE
END:VCALENDAR