BEGIN:VCALENDAR
VERSION:2.0
PRODID:-//wp-events-plugin.com//7.2.3.1//EN
TZID:Australia/Sydney
X-WR-TIMEZONE:Australia/Sydney
BEGIN:VEVENT
UID:35@kogarahcommunity.org.au
DTSTART;TZID=Australia/Sydney:20231006T100000
DTEND;TZID=Australia/Sydney:20231008T160000
DTSTAMP:20231009T015720Z
URL:https://www.kogarahcommunity.org.au/events/school-holiday-program/
SUMMARY:School Holiday Program
DESCRIPTION:[button open_new_tab="true" color="accent-color" hover_text_col
 or_override="#fff" size="extra_jumbo" url="https://kogarahcommunityservice
 s.snapforms.com.au/form/school-holiday-program---spring-2023" text="Book H
 ere" color_override=""]
END:VEVENT
BEGIN:VTIMEZONE
TZID:Australia/Sydney
X-LIC-LOCATION:Australia/Sydney
BEGIN:DAYLIGHT
DTSTART:20231001T030000
TZOFFSETFROM:+1000
TZOFFSETTO:+1100
TZNAME:AEDT
END:DAYLIGHT
END:VTIMEZONE
END:VCALENDAR