BEGIN:VCALENDAR
VERSION:2.0
PRODID:-//wp-events-plugin.com//7.2.3.1//EN
TZID:Australia/Sydney
X-WR-TIMEZONE:Australia/Sydney
BEGIN:VEVENT
UID:110@kogarahcommunity.org.au
DTSTART;TZID=Australia/Sydney:20260303T120000
DTEND;TZID=Australia/Sydney:20260303T143000
DTSTAMP:20260204T001346Z
URL:https://www.kogarahcommunity.org.au/events/seniors-week-event/
SUMMARY:Seniors Week Event
DESCRIPTION:
ATTACH;FMTTYPE=image/jpeg:https://www.kogarahcommunity.org.au/wp-content/u
 ploads/2026/02/Screenshot-2026-02-04-111123.jpg
LOCATION:49 English Street\, 49 English Street\, Kogarah\, NSW\, 2217\, Aus
 tralia
X-APPLE-STRUCTURED-LOCATION;VALUE=URI;X-ADDRESS=49 English Street\, Kogarah
 \, NSW\, 2217\, Australia;X-APPLE-RADIUS=100;X-TITLE=49 English Street:geo
 :0,0
END:VEVENT
BEGIN:VTIMEZONE
TZID:Australia/Sydney
X-LIC-LOCATION:Australia/Sydney
BEGIN:DAYLIGHT
DTSTART:20251005T030000
TZOFFSETFROM:+1000
TZOFFSETTO:+1100
TZNAME:AEDT
END:DAYLIGHT
END:VTIMEZONE
END:VCALENDAR