BEGIN:VCALENDAR
VERSION:2.0
PRODID:-//wp-events-plugin.com//7.2.3.1//EN
TZID:Australia/Sydney
X-WR-TIMEZONE:Australia/Sydney
BEGIN:VEVENT
UID:33@kogarahcommunity.org.au
DTSTART;TZID=Australia/Sydney:20230904T080000
DTEND;TZID=Australia/Sydney:20230929T150000
DTSTAMP:20230828T032213Z
URL:https://www.kogarahcommunity.org.au/events/september-2023-seniors-soci
 al-program/
SUMMARY:September 2023 - Seniors Social Program
DESCRIPTION:KCS provides a monthly program of social activities for people 
 aged 65 years or over\, and 50 years or over for Aboriginal and/or Torres 
 Strait people.\n\nOur variety of social activities are to support you gett
 ing out into the community to meet others\, and increase your well-being.\
 nIf you would like more information or support in accessing My Aged Care\,
  please contact Angela or Alicia on 9553 6506 or seniors@kcs.org.au\n\nMon
 days\, Tuesday &amp\; Fridays\n$20 per activity + transportation costs\nVa
 rious locations\n\n  
END:VEVENT
BEGIN:VTIMEZONE
TZID:Australia/Sydney
X-LIC-LOCATION:Australia/Sydney
BEGIN:STANDARD
DTSTART:20230402T020000
TZOFFSETFROM:+1100
TZOFFSETTO:+1000
TZNAME:AEST
END:STANDARD
END:VTIMEZONE
END:VCALENDAR