BEGIN:VCALENDAR
VERSION:2.0
PRODID:-//wp-events-plugin.com//7.2.3.1//EN
TZID:Australia/Sydney
X-WR-TIMEZONE:Australia/Sydney
BEGIN:VEVENT
UID:112@kogarahcommunity.org.au
DTSTART;TZID=Australia/Sydney:20260326T110000
DTEND;TZID=Australia/Sydney:20260326T130000
DTSTAMP:20260309T023844Z
URL:https://www.kogarahcommunity.org.au/events/st-george-govlink-2026-2/
SUMMARY:ST GEORGE GOVLINK 2026
DESCRIPTION:Please join us in 2026 for a new monthly meet up of government 
 services to provide advice and information to the community.
ATTACH;FMTTYPE=image/jpeg:https://www.kogarahcommunity.org.au/wp-content/u
 ploads/2026/03/Govlink-march.jpg
CATEGORIES:Community,information session
END:VEVENT
BEGIN:VTIMEZONE
TZID:Australia/Sydney
X-LIC-LOCATION:Australia/Sydney
BEGIN:DAYLIGHT
DTSTART:20251005T030000
TZOFFSETFROM:+1000
TZOFFSETTO:+1100
TZNAME:AEDT
END:DAYLIGHT
END:VTIMEZONE
END:VCALENDAR