BEGIN:VCALENDAR
VERSION:2.0
PRODID:-//wp-events-plugin.com//7.2.3.1//EN
TZID:Australia/Sydney
X-WR-TIMEZONE:Australia/Sydney
BEGIN:VEVENT
UID:82@kogarahcommunity.org.au
DTSTART;TZID=Australia/Sydney:20250612T114500
DTEND;TZID=Australia/Sydney:20250612T130000
DTSTAMP:20250526T011743Z
URL:https://www.kogarahcommunity.org.au/events/strength-balance-informativ
 e-health-session/
SUMMARY:Strength & Balance - informative health session
DESCRIPTION:Presented by Kamilla from the NSW Department of Health\, this s
 ession will focus on the importance of maintaining and improving strength 
 and balance - especially as we age—and how doing so can significantly re
 duce the risk of falls and related injuries.
ATTACH;FMTTYPE=image/jpeg:https://www.kogarahcommunity.org.au/wp-content/u
 ploads/2025/05/SB-flyer.jpg
CATEGORIES:Seniors
LOCATION:KCS Community Hub\, 49 English Street\, Kogarah\, NSW\, 2216\, Aus
 tralia
X-APPLE-STRUCTURED-LOCATION;VALUE=URI;X-ADDRESS=49 English Street\, Kogarah
 \, NSW\, 2216\, Australia;X-APPLE-RADIUS=100;X-TITLE=KCS Community Hub:geo
 :0,0
END:VEVENT
BEGIN:VTIMEZONE
TZID:Australia/Sydney
X-LIC-LOCATION:Australia/Sydney
BEGIN:STANDARD
DTSTART:20250406T020000
TZOFFSETFROM:+1100
TZOFFSETTO:+1000
TZNAME:AEST
END:STANDARD
END:VTIMEZONE
END:VCALENDAR