BEGIN:VCALENDAR
VERSION:2.0
PRODID:-//wp-events-plugin.com//7.2.3.1//EN
TZID:Australia/Sydney
X-WR-TIMEZONE:Australia/Sydney
BEGIN:VEVENT
UID:34@kogarahcommunity.org.au
DTSTART;TZID=Australia/Sydney:20231005T123000
DTEND;TZID=Australia/Sydney:20231005T163000
DTSTAMP:20230927T045223Z
URL:https://www.kogarahcommunity.org.au/events/wellbeing-workshop-for-twee
 ns-and-teens/
SUMMARY:Wellbeing Workshop for Tweens and Teens
DESCRIPTION:
CATEGORIES:Teens,Workshop
LOCATION:KCS Community Hub\, 49 English Street\, Kogarah\, NSW\, 2217\, Aus
 tralia
X-APPLE-STRUCTURED-LOCATION;VALUE=URI;X-ADDRESS=49 English Street\, Kogarah
 \, NSW\, 2217\, Australia;X-APPLE-RADIUS=100;X-TITLE=KCS Community Hub:geo
 :0,0
END:VEVENT
BEGIN:VTIMEZONE
TZID:Australia/Sydney
X-LIC-LOCATION:Australia/Sydney
BEGIN:DAYLIGHT
DTSTART:20231001T030000
TZOFFSETFROM:+1000
TZOFFSETTO:+1100
TZNAME:AEDT
END:DAYLIGHT
END:VTIMEZONE
END:VCALENDAR