BEGIN:VCALENDAR
VERSION:2.0
PRODID:-//wp-events-plugin.com//7.2.3.1//EN
TZID:Australia/Sydney
X-WR-TIMEZONE:Australia/Sydney
BEGIN:VEVENT
UID:108@kogarahcommunity.org.au
DTSTART;TZID=Australia/Sydney:20260219T120000
DTEND;TZID=Australia/Sydney:20260219T130000
DTSTAMP:20260202T003108Z
URL:https://www.kogarahcommunity.org.au/events/your-rights-when-accessing-
 aged-care-services/
SUMMARY:Your Rights When Accessing Aged Care Services
DESCRIPTION:An information session facilitated by Senior's Rights Service o
 n Rights when receiving Aged Care Services. Seniors Rights Service is a co
 mmunity organisation dedicated to protecting and advancing the rights of o
 lder people. This session is for people who are receiving\,\nor planning t
 o receive\, aged care services and about your aged care rights.\nThe sessi
 on will include an information session and there will be a time for questi
 ons.
ATTACH;FMTTYPE=image/jpeg:https://www.kogarahcommunity.org.au/wp-content/u
 ploads/2026/02/Rights-in-Aged-Care-pdf.jpg
CATEGORIES:information session
END:VEVENT
BEGIN:VTIMEZONE
TZID:Australia/Sydney
X-LIC-LOCATION:Australia/Sydney
BEGIN:DAYLIGHT
DTSTART:20251005T030000
TZOFFSETFROM:+1000
TZOFFSETTO:+1100
TZNAME:AEDT
END:DAYLIGHT
END:VTIMEZONE
END:VCALENDAR